BEGIN:VCALENDAR
VERSION:2.0
PRODID:-//Peace &amp; Justice Center - ECPv6.10.1.1//NONSGML v1.0//EN
CALSCALE:GREGORIAN
METHOD:PUBLISH
X-WR-CALNAME:Peace &amp; Justice Center
X-ORIGINAL-URL:https://www.pjcvt.org
X-WR-CALDESC:Events for Peace &amp; Justice Center
REFRESH-INTERVAL;VALUE=DURATION:PT1H
X-Robots-Tag:noindex
X-PUBLISHED-TTL:PT1H
BEGIN:VTIMEZONE
TZID:America/New_York
BEGIN:DAYLIGHT
TZOFFSETFROM:-0500
TZOFFSETTO:-0400
TZNAME:EDT
DTSTART:20260308T070000
END:DAYLIGHT
BEGIN:STANDARD
TZOFFSETFROM:-0400
TZOFFSETTO:-0500
TZNAME:EST
DTSTART:20261101T060000
END:STANDARD
END:VTIMEZONE
BEGIN:VEVENT
DTSTART;TZID=America/New_York:20260507T073000
DTEND;TZID=America/New_York:20260507T100000
DTSTAMP:20260421T091152
CREATED:20250722T192003Z
LAST-MODIFIED:20251222T193348Z
UID:10000552-1778139000-1778148000@www.pjcvt.org
SUMMARY:BTV Clean Up Crew
DESCRIPTION:Come help us clean up Burlington! We’ll clean up needles\, trash\, and ensure our community remains as beautiful and welcoming as we all know it to be. Meet at the top of Church St outside Kru Coffee every Thursday morning at 7:30am! Bring gloves if you can!
URL:https://www.pjcvt.org/event/btv-clean-up-crew/2026-05-07/
LOCATION:Top of Church St\, 2 Church St\, Burlington\, VT\, 05401\, United States
ATTACH;FMTTYPE=image/jpeg:https://www.pjcvt.org/wp-content/uploads/2025/07/Green-Illustrative-Clean-Up-Activity-Instagram-Post.jpg
END:VEVENT
BEGIN:VEVENT
DTSTART;TZID=America/New_York:20260507T170000
DTEND;TZID=America/New_York:20260507T183000
DTSTAMP:20260421T091152
CREATED:20260105T213023Z
LAST-MODIFIED:20260112T160424Z
UID:10000844-1778173200-1778178600@www.pjcvt.org
SUMMARY:Solarpunk Book Club & Game Night
DESCRIPTION:Come read a solarpunk book with us\, and play a round of the game Solarpunk Futures! If we want to live in a socially conscious\, ecological society\, we have to build it together! Come help us imagine how we can do that together.
URL:https://www.pjcvt.org/event/cooperative-storytelling-game-night-3-2/2026-05-07/
LOCATION:Peace & Justice Center\, 239 S. Union Street Suite 3\, Burlington\, Vermont\, 05401\, United States
CATEGORIES:PJC Events
ATTACH;FMTTYPE=image/png:https://www.pjcvt.org/wp-content/uploads/2025/08/Nature-Infused-Solarpunk-Community-Poster.png
END:VEVENT
BEGIN:VEVENT
DTSTART;TZID=America/New_York:20260514T073000
DTEND;TZID=America/New_York:20260514T100000
DTSTAMP:20260421T091152
CREATED:20250722T192003Z
LAST-MODIFIED:20251222T193348Z
UID:10000553-1778743800-1778752800@www.pjcvt.org
SUMMARY:BTV Clean Up Crew
DESCRIPTION:Come help us clean up Burlington! We’ll clean up needles\, trash\, and ensure our community remains as beautiful and welcoming as we all know it to be. Meet at the top of Church St outside Kru Coffee every Thursday morning at 7:30am! Bring gloves if you can!
URL:https://www.pjcvt.org/event/btv-clean-up-crew/2026-05-14/
LOCATION:Top of Church St\, 2 Church St\, Burlington\, VT\, 05401\, United States
ATTACH;FMTTYPE=image/jpeg:https://www.pjcvt.org/wp-content/uploads/2025/07/Green-Illustrative-Clean-Up-Activity-Instagram-Post.jpg
END:VEVENT
BEGIN:VEVENT
DTSTART;TZID=America/New_York:20260521T073000
DTEND;TZID=America/New_York:20260521T100000
DTSTAMP:20260421T091152
CREATED:20250722T192003Z
LAST-MODIFIED:20251222T193348Z
UID:10000554-1779348600-1779357600@www.pjcvt.org
SUMMARY:BTV Clean Up Crew
DESCRIPTION:Come help us clean up Burlington! We’ll clean up needles\, trash\, and ensure our community remains as beautiful and welcoming as we all know it to be. Meet at the top of Church St outside Kru Coffee every Thursday morning at 7:30am! Bring gloves if you can!
URL:https://www.pjcvt.org/event/btv-clean-up-crew/2026-05-21/
LOCATION:Top of Church St\, 2 Church St\, Burlington\, VT\, 05401\, United States
ATTACH;FMTTYPE=image/jpeg:https://www.pjcvt.org/wp-content/uploads/2025/07/Green-Illustrative-Clean-Up-Activity-Instagram-Post.jpg
END:VEVENT
BEGIN:VEVENT
DTSTART;TZID=America/New_York:20260521T170000
DTEND;TZID=America/New_York:20260521T183000
DTSTAMP:20260421T091152
CREATED:20260105T213023Z
LAST-MODIFIED:20260112T160424Z
UID:10000845-1779382800-1779388200@www.pjcvt.org
SUMMARY:Solarpunk Book Club & Game Night
DESCRIPTION:Come read a solarpunk book with us\, and play a round of the game Solarpunk Futures! If we want to live in a socially conscious\, ecological society\, we have to build it together! Come help us imagine how we can do that together.
URL:https://www.pjcvt.org/event/cooperative-storytelling-game-night-3-2/2026-05-21/
LOCATION:Peace & Justice Center\, 239 S. Union Street Suite 3\, Burlington\, Vermont\, 05401\, United States
CATEGORIES:PJC Events
ATTACH;FMTTYPE=image/png:https://www.pjcvt.org/wp-content/uploads/2025/08/Nature-Infused-Solarpunk-Community-Poster.png
END:VEVENT
BEGIN:VEVENT
DTSTART;TZID=America/New_York:20260528T073000
DTEND;TZID=America/New_York:20260528T100000
DTSTAMP:20260421T091152
CREATED:20250722T192003Z
LAST-MODIFIED:20251222T193348Z
UID:10000555-1779953400-1779962400@www.pjcvt.org
SUMMARY:BTV Clean Up Crew
DESCRIPTION:Come help us clean up Burlington! We’ll clean up needles\, trash\, and ensure our community remains as beautiful and welcoming as we all know it to be. Meet at the top of Church St outside Kru Coffee every Thursday morning at 7:30am! Bring gloves if you can!
URL:https://www.pjcvt.org/event/btv-clean-up-crew/2026-05-28/
LOCATION:Top of Church St\, 2 Church St\, Burlington\, VT\, 05401\, United States
ATTACH;FMTTYPE=image/jpeg:https://www.pjcvt.org/wp-content/uploads/2025/07/Green-Illustrative-Clean-Up-Activity-Instagram-Post.jpg
END:VEVENT
END:VCALENDAR