BEGIN:VCALENDAR
VERSION:2.0
PRODID:-//Peace &amp; Justice Center - ECPv6.10.1.1//NONSGML v1.0//EN
CALSCALE:GREGORIAN
METHOD:PUBLISH
X-ORIGINAL-URL:https://www.pjcvt.org
X-WR-CALDESC:Events for Peace &amp; Justice Center
REFRESH-INTERVAL;VALUE=DURATION:PT1H
X-Robots-Tag:noindex
X-PUBLISHED-TTL:PT1H
BEGIN:VTIMEZONE
TZID:America/New_York
BEGIN:DAYLIGHT
TZOFFSETFROM:-0500
TZOFFSETTO:-0400
TZNAME:EDT
DTSTART:20250309T070000
END:DAYLIGHT
BEGIN:STANDARD
TZOFFSETFROM:-0400
TZOFFSETTO:-0500
TZNAME:EST
DTSTART:20251102T060000
END:STANDARD
BEGIN:DAYLIGHT
TZOFFSETFROM:-0500
TZOFFSETTO:-0400
TZNAME:EDT
DTSTART:20260308T070000
END:DAYLIGHT
BEGIN:STANDARD
TZOFFSETFROM:-0400
TZOFFSETTO:-0500
TZNAME:EST
DTSTART:20261101T060000
END:STANDARD
END:VTIMEZONE
BEGIN:VEVENT
DTSTART;TZID=America/New_York:20251023T160000
DTEND;TZID=America/New_York:20251023T180000
DTSTAMP:20260421T094941
CREATED:20250828T194719Z
LAST-MODIFIED:20250828T194720Z
UID:10000387-1761235200-1761242400@www.pjcvt.org
SUMMARY:Cooperative Storytelling Game Night
DESCRIPTION:Come play a cooperative storytelling game with us\, every other Thursday at the Peace & Justice Center! The game we will be playing is called Solarpunk Futures. In the game\, we live in a utopian solarpunk future\, and we are having a festival of remembrance to remember what our ancestors did to get us to utopia. Come tell some stories and play some games with us!
URL:https://www.pjcvt.org/event/cooperative-storytelling-game-night-3/2025-10-23/
LOCATION:Peace & Justice Center\, 239 S. Union Street Suite 3\, Burlington\, Vermont\, 05401\, United States
CATEGORIES:PJC Events
ATTACH;FMTTYPE=image/png:https://www.pjcvt.org/wp-content/uploads/2025/02/Game-Night-Poster2.png
END:VEVENT
BEGIN:VEVENT
DTSTART;TZID=America/New_York:20251025T140000
DTEND;TZID=America/New_York:20251025T160000
DTSTAMP:20260421T094941
CREATED:20251006T191845Z
LAST-MODIFIED:20251006T191845Z
UID:10000794-1761400800-1761408000@www.pjcvt.org
SUMMARY:Rad Folk Songs with Special Guests Aro Vero & Claire Bates
DESCRIPTION:Come to the Peace & Justice Center on October 25th for a special edition of Rad Folk Songs! Local folk singers Aro Vero & Claire Bates will teach us some of their original songs\, we will sing all the classics\, and we will try and write a short song together!
URL:https://www.pjcvt.org/event/rad-folk-songs-with-special-guests-aro-vero-claire-bates/
LOCATION:Peace & Justice Center\, 239 S. Union Street Suite 3\, Burlington\, Vermont\, 05401\, United States
CATEGORIES:PJC Events
ATTACH;FMTTYPE=image/png:https://www.pjcvt.org/wp-content/uploads/2025/10/Rad-Folk-Songs3.png
END:VEVENT
BEGIN:VEVENT
DTSTART;TZID=America/New_York:20251026T113000
DTEND;TZID=America/New_York:20251026T133000
DTSTAMP:20260421T094941
CREATED:20251002T165206Z
LAST-MODIFIED:20251002T165206Z
UID:10000793-1761478200-1761485400@www.pjcvt.org
SUMMARY:Sunday Clean Up Crew
DESCRIPTION:Come help us clean up Burlington\, this time on Sunday! We’ll clean up needles\, trash\, and ensure our community remains as beautiful and welcoming as we all know it to be. Meet at the top of Church St outside Kru Coffee at 11:30am!
URL:https://www.pjcvt.org/event/sunday-clean-up-crew/
LOCATION:Top of Church St\, 2 Church St\, Burlington\, VT\, 05401\, United States
ATTACH;FMTTYPE=image/png:https://www.pjcvt.org/wp-content/uploads/2025/10/weekend_clean_up_2.png
END:VEVENT
BEGIN:VEVENT
DTSTART;TZID=America/New_York:20251030T073000
DTEND;TZID=America/New_York:20251030T100000
DTSTAMP:20260421T094941
CREATED:20250722T192003Z
LAST-MODIFIED:20251222T193348Z
UID:10000525-1761809400-1761818400@www.pjcvt.org
SUMMARY:BTV Clean Up Crew
DESCRIPTION:Come help us clean up Burlington! We’ll clean up needles\, trash\, and ensure our community remains as beautiful and welcoming as we all know it to be. Meet at the top of Church St outside Kru Coffee every Thursday morning at 7:30am! Bring gloves if you can!
URL:https://www.pjcvt.org/event/btv-clean-up-crew/2025-10-30/
LOCATION:Top of Church St\, 2 Church St\, Burlington\, VT\, 05401\, United States
ATTACH;FMTTYPE=image/jpeg:https://www.pjcvt.org/wp-content/uploads/2025/07/Green-Illustrative-Clean-Up-Activity-Instagram-Post.jpg
END:VEVENT
BEGIN:VEVENT
DTSTART;TZID=America/New_York:20251101T140000
DTEND;TZID=America/New_York:20251101T160000
DTSTAMP:20260421T094941
CREATED:20251020T183020Z
LAST-MODIFIED:20251020T183020Z
UID:10000795-1762005600-1762012800@www.pjcvt.org
SUMMARY:Prison Letter Writing
DESCRIPTION:Come write letters to our neighbors in prison! We will provide pens\, paper\, stamps\, and envelopes. The only thing you need to bring is yourself!
URL:https://www.pjcvt.org/event/prison-letter-writing-2/
LOCATION:Peace & Justice Center\, 239 S. Union Street Suite 3\, Burlington\, Vermont\, 05401\, United States
ATTACH;FMTTYPE=image/png:https://www.pjcvt.org/wp-content/uploads/2025/10/Prison-Letter-Writing-Flyer2.png
END:VEVENT
BEGIN:VEVENT
DTSTART;TZID=America/New_York:20251106T073000
DTEND;TZID=America/New_York:20251106T100000
DTSTAMP:20260421T094941
CREATED:20250722T192003Z
LAST-MODIFIED:20251222T193348Z
UID:10000526-1762414200-1762423200@www.pjcvt.org
SUMMARY:BTV Clean Up Crew
DESCRIPTION:Come help us clean up Burlington! We’ll clean up needles\, trash\, and ensure our community remains as beautiful and welcoming as we all know it to be. Meet at the top of Church St outside Kru Coffee every Thursday morning at 7:30am! Bring gloves if you can!
URL:https://www.pjcvt.org/event/btv-clean-up-crew/2025-11-06/
LOCATION:Top of Church St\, 2 Church St\, Burlington\, VT\, 05401\, United States
ATTACH;FMTTYPE=image/jpeg:https://www.pjcvt.org/wp-content/uploads/2025/07/Green-Illustrative-Clean-Up-Activity-Instagram-Post.jpg
END:VEVENT
BEGIN:VEVENT
DTSTART;TZID=America/New_York:20251106T160000
DTEND;TZID=America/New_York:20251106T180000
DTSTAMP:20260421T094941
CREATED:20250828T194719Z
LAST-MODIFIED:20250828T194720Z
UID:10000388-1762444800-1762452000@www.pjcvt.org
SUMMARY:Cooperative Storytelling Game Night
DESCRIPTION:Come play a cooperative storytelling game with us\, every other Thursday at the Peace & Justice Center! The game we will be playing is called Solarpunk Futures. In the game\, we live in a utopian solarpunk future\, and we are having a festival of remembrance to remember what our ancestors did to get us to utopia. Come tell some stories and play some games with us!
URL:https://www.pjcvt.org/event/cooperative-storytelling-game-night-3/2025-11-06/
LOCATION:Peace & Justice Center\, 239 S. Union Street Suite 3\, Burlington\, Vermont\, 05401\, United States
CATEGORIES:PJC Events
ATTACH;FMTTYPE=image/png:https://www.pjcvt.org/wp-content/uploads/2025/02/Game-Night-Poster2.png
END:VEVENT
BEGIN:VEVENT
DTSTART;TZID=America/New_York:20251107T190000
DTEND;TZID=America/New_York:20251107T210000
DTSTAMP:20260421T094941
CREATED:20251020T194305Z
LAST-MODIFIED:20251020T194305Z
UID:10000797-1762542000-1762549200@www.pjcvt.org
SUMMARY:Ed Everts Awards & Annual Meeting
DESCRIPTION:Come celebrate all that we accomplished over the previous year with us\, and learn about all our plans for the next fiscal year! We will also be giving out the Ed Everts Award & Volunteer Superstar award to some amazing community members. We look forward to seeing you there!
URL:https://www.pjcvt.org/event/ed-everts-awards-annual-meeting/
LOCATION:Schmanska Park\, 63 Grove St\, Burlington VT
CATEGORIES:PJC Events
ATTACH;FMTTYPE=image/png:https://www.pjcvt.org/wp-content/uploads/2025/10/Ed-Everts-Awards-2025-Flyer.png
END:VEVENT
BEGIN:VEVENT
DTSTART;TZID=America/New_York:20251113T073000
DTEND;TZID=America/New_York:20251113T100000
DTSTAMP:20260421T094941
CREATED:20250722T192003Z
LAST-MODIFIED:20251222T193348Z
UID:10000527-1763019000-1763028000@www.pjcvt.org
SUMMARY:BTV Clean Up Crew
DESCRIPTION:Come help us clean up Burlington! We’ll clean up needles\, trash\, and ensure our community remains as beautiful and welcoming as we all know it to be. Meet at the top of Church St outside Kru Coffee every Thursday morning at 7:30am! Bring gloves if you can!
URL:https://www.pjcvt.org/event/btv-clean-up-crew/2025-11-13/
LOCATION:Top of Church St\, 2 Church St\, Burlington\, VT\, 05401\, United States
ATTACH;FMTTYPE=image/jpeg:https://www.pjcvt.org/wp-content/uploads/2025/07/Green-Illustrative-Clean-Up-Activity-Instagram-Post.jpg
END:VEVENT
BEGIN:VEVENT
DTSTART;TZID=America/New_York:20251115T140000
DTEND;TZID=America/New_York:20251115T160000
DTSTAMP:20260421T094941
CREATED:20251020T192135Z
LAST-MODIFIED:20251020T192135Z
UID:10000796-1763215200-1763222400@www.pjcvt.org
SUMMARY:Rad History: Abolitionists in Burlington
DESCRIPTION:Come learn about the history of the abolitionist movement in Burlington! Did you know that the person who gave the eulogy at John Brown’s funeral was the minister at what is now the Unitarian Church in Burlington? Did you know that Burlington had multiple people involved in the Underground Railroad? Come learn about all of this and more!
URL:https://www.pjcvt.org/event/rad-history-abolitionists-in-burlington/
LOCATION:Vermont
ATTACH;FMTTYPE=image/png:https://www.pjcvt.org/wp-content/uploads/2025/10/PJC-Rad-History-Series7.png
END:VEVENT
BEGIN:VEVENT
DTSTART;TZID=America/New_York:20251120T073000
DTEND;TZID=America/New_York:20251120T100000
DTSTAMP:20260421T094941
CREATED:20250722T192003Z
LAST-MODIFIED:20251222T193348Z
UID:10000528-1763623800-1763632800@www.pjcvt.org
SUMMARY:BTV Clean Up Crew
DESCRIPTION:Come help us clean up Burlington! We’ll clean up needles\, trash\, and ensure our community remains as beautiful and welcoming as we all know it to be. Meet at the top of Church St outside Kru Coffee every Thursday morning at 7:30am! Bring gloves if you can!
URL:https://www.pjcvt.org/event/btv-clean-up-crew/2025-11-20/
LOCATION:Top of Church St\, 2 Church St\, Burlington\, VT\, 05401\, United States
ATTACH;FMTTYPE=image/jpeg:https://www.pjcvt.org/wp-content/uploads/2025/07/Green-Illustrative-Clean-Up-Activity-Instagram-Post.jpg
END:VEVENT
BEGIN:VEVENT
DTSTART;TZID=America/New_York:20251120T160000
DTEND;TZID=America/New_York:20251120T180000
DTSTAMP:20260421T094941
CREATED:20250828T194719Z
LAST-MODIFIED:20250828T194720Z
UID:10000389-1763654400-1763661600@www.pjcvt.org
SUMMARY:Cooperative Storytelling Game Night
DESCRIPTION:Come play a cooperative storytelling game with us\, every other Thursday at the Peace & Justice Center! The game we will be playing is called Solarpunk Futures. In the game\, we live in a utopian solarpunk future\, and we are having a festival of remembrance to remember what our ancestors did to get us to utopia. Come tell some stories and play some games with us!
URL:https://www.pjcvt.org/event/cooperative-storytelling-game-night-3/2025-11-20/
LOCATION:Peace & Justice Center\, 239 S. Union Street Suite 3\, Burlington\, Vermont\, 05401\, United States
CATEGORIES:PJC Events
ATTACH;FMTTYPE=image/png:https://www.pjcvt.org/wp-content/uploads/2025/02/Game-Night-Poster2.png
END:VEVENT
BEGIN:VEVENT
DTSTART;TZID=America/New_York:20251127T073000
DTEND;TZID=America/New_York:20251127T100000
DTSTAMP:20260421T094941
CREATED:20250722T192003Z
LAST-MODIFIED:20251222T193348Z
UID:10000529-1764228600-1764237600@www.pjcvt.org
SUMMARY:BTV Clean Up Crew
DESCRIPTION:Come help us clean up Burlington! We’ll clean up needles\, trash\, and ensure our community remains as beautiful and welcoming as we all know it to be. Meet at the top of Church St outside Kru Coffee every Thursday morning at 7:30am! Bring gloves if you can!
URL:https://www.pjcvt.org/event/btv-clean-up-crew/2025-11-27/
LOCATION:Top of Church St\, 2 Church St\, Burlington\, VT\, 05401\, United States
ATTACH;FMTTYPE=image/jpeg:https://www.pjcvt.org/wp-content/uploads/2025/07/Green-Illustrative-Clean-Up-Activity-Instagram-Post.jpg
END:VEVENT
BEGIN:VEVENT
DTSTART;TZID=America/New_York:20251130T113000
DTEND;TZID=America/New_York:20251130T133000
DTSTAMP:20260421T094941
CREATED:20251106T204050Z
LAST-MODIFIED:20251106T204050Z
UID:10000799-1764502200-1764509400@www.pjcvt.org
SUMMARY:Weekend Clean Up Crew
DESCRIPTION:Come help us clean up Burlington\, this time on the weekend! We’ll clean up needles\, trash\, and ensure our community remains as beautiful and welcoming as we all know it to be. Meet at the top of Church St outside Kru Coffee at 11:30am!
URL:https://www.pjcvt.org/event/weekend-clean-up-crew-3/
LOCATION:Top of Church St\, 2 Church St\, Burlington\, VT\, 05401\, United States
ATTACH;FMTTYPE=image/jpeg:https://www.pjcvt.org/wp-content/uploads/2025/11/signal-2025-11-06-125914_002.jpeg
END:VEVENT
BEGIN:VEVENT
DTSTART;TZID=America/New_York:20251204T073000
DTEND;TZID=America/New_York:20251204T100000
DTSTAMP:20260421T094941
CREATED:20250722T192003Z
LAST-MODIFIED:20251222T193348Z
UID:10000530-1764833400-1764842400@www.pjcvt.org
SUMMARY:BTV Clean Up Crew
DESCRIPTION:Come help us clean up Burlington! We’ll clean up needles\, trash\, and ensure our community remains as beautiful and welcoming as we all know it to be. Meet at the top of Church St outside Kru Coffee every Thursday morning at 7:30am! Bring gloves if you can!
URL:https://www.pjcvt.org/event/btv-clean-up-crew/2025-12-04/
LOCATION:Top of Church St\, 2 Church St\, Burlington\, VT\, 05401\, United States
ATTACH;FMTTYPE=image/jpeg:https://www.pjcvt.org/wp-content/uploads/2025/07/Green-Illustrative-Clean-Up-Activity-Instagram-Post.jpg
END:VEVENT
BEGIN:VEVENT
DTSTART;TZID=America/New_York:20251204T160000
DTEND;TZID=America/New_York:20251204T180000
DTSTAMP:20260421T094941
CREATED:20250828T194719Z
LAST-MODIFIED:20250828T194720Z
UID:10000390-1764864000-1764871200@www.pjcvt.org
SUMMARY:Cooperative Storytelling Game Night
DESCRIPTION:Come play a cooperative storytelling game with us\, every other Thursday at the Peace & Justice Center! The game we will be playing is called Solarpunk Futures. In the game\, we live in a utopian solarpunk future\, and we are having a festival of remembrance to remember what our ancestors did to get us to utopia. Come tell some stories and play some games with us!
URL:https://www.pjcvt.org/event/cooperative-storytelling-game-night-3/2025-12-04/
LOCATION:Peace & Justice Center\, 239 S. Union Street Suite 3\, Burlington\, Vermont\, 05401\, United States
CATEGORIES:PJC Events
ATTACH;FMTTYPE=image/png:https://www.pjcvt.org/wp-content/uploads/2025/02/Game-Night-Poster2.png
END:VEVENT
BEGIN:VEVENT
DTSTART;TZID=America/New_York:20251206T140000
DTEND;TZID=America/New_York:20251206T160000
DTSTAMP:20260421T094941
CREATED:20251021T192028Z
LAST-MODIFIED:20251021T192028Z
UID:10000798-1765029600-1765036800@www.pjcvt.org
SUMMARY:Holiday Cards to Prison
DESCRIPTION:Come write a bunch of holiday cards and send them to our neighbors in prison with us! This is a great event for folks who don’t have the time to commit to being a regular pen pal\, but would still like to let our neighbors in prison know that we are thinking of them! We will provide the cards\, stamps\, envelopes\, and pens. We look forward to seeing you!
URL:https://www.pjcvt.org/event/holiday-cards-to-prison/
LOCATION:Peace & Justice Center\, 239 S. Union Street Suite 3\, Burlington\, Vermont\, 05401\, United States
CATEGORIES:PJC Events
ATTACH;FMTTYPE=image/png:https://www.pjcvt.org/wp-content/uploads/2025/10/Prison-Letter-Writing-Flyer3.png
END:VEVENT
BEGIN:VEVENT
DTSTART;TZID=America/New_York:20251211T073000
DTEND;TZID=America/New_York:20251211T100000
DTSTAMP:20260421T094941
CREATED:20250722T192003Z
LAST-MODIFIED:20251222T193348Z
UID:10000531-1765438200-1765447200@www.pjcvt.org
SUMMARY:BTV Clean Up Crew
DESCRIPTION:Come help us clean up Burlington! We’ll clean up needles\, trash\, and ensure our community remains as beautiful and welcoming as we all know it to be. Meet at the top of Church St outside Kru Coffee every Thursday morning at 7:30am! Bring gloves if you can!
URL:https://www.pjcvt.org/event/btv-clean-up-crew/2025-12-11/
LOCATION:Top of Church St\, 2 Church St\, Burlington\, VT\, 05401\, United States
ATTACH;FMTTYPE=image/jpeg:https://www.pjcvt.org/wp-content/uploads/2025/07/Green-Illustrative-Clean-Up-Activity-Instagram-Post.jpg
END:VEVENT
BEGIN:VEVENT
DTSTART;TZID=America/New_York:20251218T073000
DTEND;TZID=America/New_York:20251218T100000
DTSTAMP:20260421T094941
CREATED:20250722T192003Z
LAST-MODIFIED:20251222T193348Z
UID:10000532-1766043000-1766052000@www.pjcvt.org
SUMMARY:BTV Clean Up Crew
DESCRIPTION:Come help us clean up Burlington! We’ll clean up needles\, trash\, and ensure our community remains as beautiful and welcoming as we all know it to be. Meet at the top of Church St outside Kru Coffee every Thursday morning at 7:30am! Bring gloves if you can!
URL:https://www.pjcvt.org/event/btv-clean-up-crew/2025-12-18/
LOCATION:Top of Church St\, 2 Church St\, Burlington\, VT\, 05401\, United States
ATTACH;FMTTYPE=image/jpeg:https://www.pjcvt.org/wp-content/uploads/2025/07/Green-Illustrative-Clean-Up-Activity-Instagram-Post.jpg
END:VEVENT
BEGIN:VEVENT
DTSTART;TZID=America/New_York:20251218T160000
DTEND;TZID=America/New_York:20251218T180000
DTSTAMP:20260421T094941
CREATED:20250828T194719Z
LAST-MODIFIED:20250828T194720Z
UID:10000391-1766073600-1766080800@www.pjcvt.org
SUMMARY:Cooperative Storytelling Game Night
DESCRIPTION:Come play a cooperative storytelling game with us\, every other Thursday at the Peace & Justice Center! The game we will be playing is called Solarpunk Futures. In the game\, we live in a utopian solarpunk future\, and we are having a festival of remembrance to remember what our ancestors did to get us to utopia. Come tell some stories and play some games with us!
URL:https://www.pjcvt.org/event/cooperative-storytelling-game-night-3/2025-12-18/
LOCATION:Peace & Justice Center\, 239 S. Union Street Suite 3\, Burlington\, Vermont\, 05401\, United States
CATEGORIES:PJC Events
ATTACH;FMTTYPE=image/png:https://www.pjcvt.org/wp-content/uploads/2025/02/Game-Night-Poster2.png
END:VEVENT
BEGIN:VEVENT
DTSTART;TZID=America/New_York:20251220T140000
DTEND;TZID=America/New_York:20251220T160000
DTSTAMP:20260421T094941
CREATED:20251124T211630Z
LAST-MODIFIED:20251222T193151Z
UID:10000800-1766239200-1766246400@www.pjcvt.org
SUMMARY:Rad History: Kropotkin in America
DESCRIPTION:Peter Kropotkin was an icon of the late 19th century and early 20th century anarchist and labor movements in Europe\, and did you know that he visited the United States? Come learn about his travels in Boston\, New York\, and Chicago\, and hear about his run-ins with famous American figures like Jane Addams\, Andrew Carnegie\, Emma Goldman\, and more!
URL:https://www.pjcvt.org/event/rad-history-kropotkin-in-america/
LOCATION:Peace & Justice Center\, 239 S. Union Street Suite 3\, Burlington\, Vermont\, 05401\, United States
ATTACH;FMTTYPE=image/png:https://www.pjcvt.org/wp-content/uploads/2025/11/Rad-Folk-Songs4.png
END:VEVENT
BEGIN:VEVENT
DTSTART;TZID=America/New_York:20251221T113000
DTEND;TZID=America/New_York:20251221T133000
DTSTAMP:20260421T094941
CREATED:20251216T183829Z
LAST-MODIFIED:20251216T183829Z
UID:10000801-1766316600-1766323800@www.pjcvt.org
SUMMARY:Weekend Clean Up Crew
DESCRIPTION:Come help us clean up Burlington\, this time on the weekend! We’ll clean up needles\, trash\, and ensure our community remains as beautiful and welcoming as we all know it to be. Meet at the top of Church St outside Kru Coffee at 11:30am!
URL:https://www.pjcvt.org/event/weekend-clean-up-crew-4/
LOCATION:Top of Church St\, 2 Church St\, Burlington\, VT\, 05401\, United States
ATTACH;FMTTYPE=image/jpeg:https://www.pjcvt.org/wp-content/uploads/2025/12/signal-2025-12-01-195137_002.jpeg
END:VEVENT
BEGIN:VEVENT
DTSTART;TZID=America/New_York:20260101T073000
DTEND;TZID=America/New_York:20260101T100000
DTSTAMP:20260421T094941
CREATED:20250722T192003Z
LAST-MODIFIED:20251222T193348Z
UID:10000534-1767252600-1767261600@www.pjcvt.org
SUMMARY:BTV Clean Up Crew
DESCRIPTION:Come help us clean up Burlington! We’ll clean up needles\, trash\, and ensure our community remains as beautiful and welcoming as we all know it to be. Meet at the top of Church St outside Kru Coffee every Thursday morning at 7:30am! Bring gloves if you can!
URL:https://www.pjcvt.org/event/btv-clean-up-crew/2026-01-01/
LOCATION:Top of Church St\, 2 Church St\, Burlington\, VT\, 05401\, United States
ATTACH;FMTTYPE=image/jpeg:https://www.pjcvt.org/wp-content/uploads/2025/07/Green-Illustrative-Clean-Up-Activity-Instagram-Post.jpg
END:VEVENT
BEGIN:VEVENT
DTSTART;TZID=America/New_York:20260101T160000
DTEND;TZID=America/New_York:20260101T180000
DTSTAMP:20260421T094941
CREATED:20250828T194719Z
LAST-MODIFIED:20250828T194720Z
UID:10000392-1767283200-1767290400@www.pjcvt.org
SUMMARY:Cooperative Storytelling Game Night
DESCRIPTION:Come play a cooperative storytelling game with us\, every other Thursday at the Peace & Justice Center! The game we will be playing is called Solarpunk Futures. In the game\, we live in a utopian solarpunk future\, and we are having a festival of remembrance to remember what our ancestors did to get us to utopia. Come tell some stories and play some games with us!
URL:https://www.pjcvt.org/event/cooperative-storytelling-game-night-3/2026-01-01/
LOCATION:Peace & Justice Center\, 239 S. Union Street Suite 3\, Burlington\, Vermont\, 05401\, United States
CATEGORIES:PJC Events
ATTACH;FMTTYPE=image/png:https://www.pjcvt.org/wp-content/uploads/2025/02/Game-Night-Poster2.png
END:VEVENT
BEGIN:VEVENT
DTSTART;TZID=America/New_York:20260108T073000
DTEND;TZID=America/New_York:20260108T100000
DTSTAMP:20260421T094941
CREATED:20250722T192003Z
LAST-MODIFIED:20251222T193348Z
UID:10000535-1767857400-1767866400@www.pjcvt.org
SUMMARY:BTV Clean Up Crew
DESCRIPTION:Come help us clean up Burlington! We’ll clean up needles\, trash\, and ensure our community remains as beautiful and welcoming as we all know it to be. Meet at the top of Church St outside Kru Coffee every Thursday morning at 7:30am! Bring gloves if you can!
URL:https://www.pjcvt.org/event/btv-clean-up-crew/2026-01-08/
LOCATION:Top of Church St\, 2 Church St\, Burlington\, VT\, 05401\, United States
ATTACH;FMTTYPE=image/jpeg:https://www.pjcvt.org/wp-content/uploads/2025/07/Green-Illustrative-Clean-Up-Activity-Instagram-Post.jpg
END:VEVENT
BEGIN:VEVENT
DTSTART;TZID=America/New_York:20260115T073000
DTEND;TZID=America/New_York:20260115T100000
DTSTAMP:20260421T094941
CREATED:20250722T192003Z
LAST-MODIFIED:20251222T193348Z
UID:10000536-1768462200-1768471200@www.pjcvt.org
SUMMARY:BTV Clean Up Crew
DESCRIPTION:Come help us clean up Burlington! We’ll clean up needles\, trash\, and ensure our community remains as beautiful and welcoming as we all know it to be. Meet at the top of Church St outside Kru Coffee every Thursday morning at 7:30am! Bring gloves if you can!
URL:https://www.pjcvt.org/event/btv-clean-up-crew/2026-01-15/
LOCATION:Top of Church St\, 2 Church St\, Burlington\, VT\, 05401\, United States
ATTACH;FMTTYPE=image/jpeg:https://www.pjcvt.org/wp-content/uploads/2025/07/Green-Illustrative-Clean-Up-Activity-Instagram-Post.jpg
END:VEVENT
BEGIN:VEVENT
DTSTART;TZID=America/New_York:20260115T170000
DTEND;TZID=America/New_York:20260115T183000
DTSTAMP:20260421T094941
CREATED:20260105T213023Z
LAST-MODIFIED:20260112T160424Z
UID:10000836-1768496400-1768501800@www.pjcvt.org
SUMMARY:Solarpunk Book Club & Game Night
DESCRIPTION:Come read a solarpunk book with us\, and play a round of the game Solarpunk Futures! If we want to live in a socially conscious\, ecological society\, we have to build it together! Come help us imagine how we can do that together.
URL:https://www.pjcvt.org/event/cooperative-storytelling-game-night-3-2/2026-01-15/
LOCATION:Peace & Justice Center\, 239 S. Union Street Suite 3\, Burlington\, Vermont\, 05401\, United States
CATEGORIES:PJC Events
ATTACH;FMTTYPE=image/png:https://www.pjcvt.org/wp-content/uploads/2025/08/Nature-Infused-Solarpunk-Community-Poster.png
END:VEVENT
BEGIN:VEVENT
DTSTART;TZID=America/New_York:20260117T140000
DTEND;TZID=America/New_York:20260117T160000
DTSTAMP:20260421T094941
CREATED:20260105T194819Z
LAST-MODIFIED:20260105T194819Z
UID:10000824-1768658400-1768665600@www.pjcvt.org
SUMMARY:Zine + Button Making
DESCRIPTION:Come learn how to make zines and buttons with us! All the material will be provided\, you only need to bring yourself! We look forward to seeing you there!
URL:https://www.pjcvt.org/event/zine-button-making/
LOCATION:Peace & Justice Center\, 239 S. Union Street Suite 3 Suite 3\, Burlington\, VT\, 05401\, United States
CATEGORIES:PJC Events
ATTACH;FMTTYPE=image/png:https://www.pjcvt.org/wp-content/uploads/2026/01/Zine-Making-Workshop-Flyer11.png
END:VEVENT
BEGIN:VEVENT
DTSTART;TZID=America/New_York:20260122T073000
DTEND;TZID=America/New_York:20260122T100000
DTSTAMP:20260421T094941
CREATED:20250722T192003Z
LAST-MODIFIED:20251222T193348Z
UID:10000537-1769067000-1769076000@www.pjcvt.org
SUMMARY:BTV Clean Up Crew
DESCRIPTION:Come help us clean up Burlington! We’ll clean up needles\, trash\, and ensure our community remains as beautiful and welcoming as we all know it to be. Meet at the top of Church St outside Kru Coffee every Thursday morning at 7:30am! Bring gloves if you can!
URL:https://www.pjcvt.org/event/btv-clean-up-crew/2026-01-22/
LOCATION:Top of Church St\, 2 Church St\, Burlington\, VT\, 05401\, United States
ATTACH;FMTTYPE=image/jpeg:https://www.pjcvt.org/wp-content/uploads/2025/07/Green-Illustrative-Clean-Up-Activity-Instagram-Post.jpg
END:VEVENT
BEGIN:VEVENT
DTSTART;TZID=America/New_York:20260122T170000
DTEND;TZID=America/New_York:20260122T190000
DTSTAMP:20260421T094941
CREATED:20260105T214914Z
LAST-MODIFIED:20260105T214914Z
UID:10000834-1769101200-1769108400@www.pjcvt.org
SUMMARY:Alexis Lathem Author Talk
DESCRIPTION:Finding hope in a small farm\, an engaged community\, and an age-old connection to the earth \nAfter half a lifetime spent moving from place to place\, Alexis Lathem at last settled down with her husband on a small farm near Vermont’s largest city. The lyric essays of Lambs in Winter take readers through the seasonal cycles of raising sheep and hens and growing fruits and vegetables while confronting the challenges of winter storms\, summer floods\, invasive weeds\, and pests and diseases. \nEver conscious of her place in a historically colonized and ecologically degraded landscape\, Lathem wrestles with ethical questions that come to many rural dwellers who—following Thoreau—set out to “live deliberately\,” in a time of climate crisis\, persistent racial inequity\, and growing economic inequality. Likewise\, she grapples with the moral complexities of small-scale animal husbandry. Through her efforts at self-provisioning\, without holding illusions of the self-reliant individual\, Lathem finds herself deeply embedded in the community and reliant on others\, especially as her region deals with repeated catastrophic flooding brought on by climate change. \nThrough elegant prose and insightful investigations into pressing contemporary issues\, Lathem evokes the world of her farm and the surrounding countryside with a spiritual awareness of the human journey on this earth. Living in place\, attuned to the unfolding changes in the world around her\, gives her much to grieve\, but the pages of Lambs in Winter are luminous with moments of joy and beauty.
URL:https://www.pjcvt.org/event/alexis-lathem-author-talk/
LOCATION:Vermont
ATTACH;FMTTYPE=image/png:https://www.pjcvt.org/wp-content/uploads/2026/01/Copy-of-Author-Talk-Flyer.png
END:VEVENT
END:VCALENDAR