BEGIN:VCALENDAR
VERSION:2.0
PRODID:-//Peace &amp; Justice Center - ECPv6.10.1.1//NONSGML v1.0//EN
CALSCALE:GREGORIAN
METHOD:PUBLISH
X-ORIGINAL-URL:https://www.pjcvt.org
X-WR-CALDESC:Events for Peace &amp; Justice Center
REFRESH-INTERVAL;VALUE=DURATION:PT1H
X-Robots-Tag:noindex
X-PUBLISHED-TTL:PT1H
BEGIN:VTIMEZONE
TZID:America/New_York
BEGIN:DAYLIGHT
TZOFFSETFROM:-0500
TZOFFSETTO:-0400
TZNAME:EDT
DTSTART:20260308T070000
END:DAYLIGHT
BEGIN:STANDARD
TZOFFSETFROM:-0400
TZOFFSETTO:-0500
TZNAME:EST
DTSTART:20261101T060000
END:STANDARD
END:VTIMEZONE
BEGIN:VEVENT
DTSTART;TZID=America/New_York:20260423T073000
DTEND;TZID=America/New_York:20260423T100000
DTSTAMP:20260421T095106
CREATED:20250722T192003Z
LAST-MODIFIED:20251222T193348Z
UID:10000550-1776929400-1776938400@www.pjcvt.org
SUMMARY:BTV Clean Up Crew
DESCRIPTION:Come help us clean up Burlington! We’ll clean up needles\, trash\, and ensure our community remains as beautiful and welcoming as we all know it to be. Meet at the top of Church St outside Kru Coffee every Thursday morning at 7:30am! Bring gloves if you can!
URL:https://www.pjcvt.org/event/btv-clean-up-crew/2026-04-23/
LOCATION:Top of Church St\, 2 Church St\, Burlington\, VT\, 05401\, United States
ATTACH;FMTTYPE=image/jpeg:https://www.pjcvt.org/wp-content/uploads/2025/07/Green-Illustrative-Clean-Up-Activity-Instagram-Post.jpg
END:VEVENT
BEGIN:VEVENT
DTSTART;TZID=America/New_York:20260423T170000
DTEND;TZID=America/New_York:20260423T183000
DTSTAMP:20260421T095106
CREATED:20260105T213023Z
LAST-MODIFIED:20260112T160424Z
UID:10000843-1776963600-1776969000@www.pjcvt.org
SUMMARY:Solarpunk Book Club & Game Night
DESCRIPTION:Come read a solarpunk book with us\, and play a round of the game Solarpunk Futures! If we want to live in a socially conscious\, ecological society\, we have to build it together! Come help us imagine how we can do that together.
URL:https://www.pjcvt.org/event/cooperative-storytelling-game-night-3-2/2026-04-23/
LOCATION:Peace & Justice Center\, 239 S. Union Street Suite 3\, Burlington\, Vermont\, 05401\, United States
CATEGORIES:PJC Events
ATTACH;FMTTYPE=image/png:https://www.pjcvt.org/wp-content/uploads/2025/08/Nature-Infused-Solarpunk-Community-Poster.png
END:VEVENT
BEGIN:VEVENT
DTSTART;TZID=America/New_York:20260425T160000
DTEND;TZID=America/New_York:20260425T180000
DTSTAMP:20260421T095106
CREATED:20260411T200851Z
LAST-MODIFIED:20260411T200851Z
UID:10000976-1777132800-1777140000@www.pjcvt.org
SUMMARY:Libraries: The History and Future of a Rad Idea with Jessamyn West
DESCRIPTION:If libraries didn’t already exist\, they would come across to many people as an outlandish\, almost utopian idea that would never work. Yet\, here they are! Come learn about the history of this rad idea\, where all people are free to take books and other items with the full expectation that they will bring them back for others to use as well. We will be joined by Jessamyn West\, one of the most well-known and renowned librarians in the country!
URL:https://www.pjcvt.org/event/libraries-the-history-and-future-of-a-rad-idea-with-jessamyn-west/
LOCATION:Peace & Justice Center\, 239 S. Union Street Suite 3\, Burlington\, Vermont\, 05401\, United States
ATTACH;FMTTYPE=image/png:https://www.pjcvt.org/wp-content/uploads/2026/04/Copy-of-Rad-History3.png
END:VEVENT
BEGIN:VEVENT
DTSTART;TZID=America/New_York:20260430T073000
DTEND;TZID=America/New_York:20260430T100000
DTSTAMP:20260421T095106
CREATED:20250722T192003Z
LAST-MODIFIED:20251222T193348Z
UID:10000551-1777534200-1777543200@www.pjcvt.org
SUMMARY:BTV Clean Up Crew
DESCRIPTION:Come help us clean up Burlington! We’ll clean up needles\, trash\, and ensure our community remains as beautiful and welcoming as we all know it to be. Meet at the top of Church St outside Kru Coffee every Thursday morning at 7:30am! Bring gloves if you can!
URL:https://www.pjcvt.org/event/btv-clean-up-crew/2026-04-30/
LOCATION:Top of Church St\, 2 Church St\, Burlington\, VT\, 05401\, United States
ATTACH;FMTTYPE=image/jpeg:https://www.pjcvt.org/wp-content/uploads/2025/07/Green-Illustrative-Clean-Up-Activity-Instagram-Post.jpg
END:VEVENT
BEGIN:VEVENT
DTSTART;TZID=America/New_York:20260507T073000
DTEND;TZID=America/New_York:20260507T100000
DTSTAMP:20260421T095106
CREATED:20250722T192003Z
LAST-MODIFIED:20251222T193348Z
UID:10000552-1778139000-1778148000@www.pjcvt.org
SUMMARY:BTV Clean Up Crew
DESCRIPTION:Come help us clean up Burlington! We’ll clean up needles\, trash\, and ensure our community remains as beautiful and welcoming as we all know it to be. Meet at the top of Church St outside Kru Coffee every Thursday morning at 7:30am! Bring gloves if you can!
URL:https://www.pjcvt.org/event/btv-clean-up-crew/2026-05-07/
LOCATION:Top of Church St\, 2 Church St\, Burlington\, VT\, 05401\, United States
ATTACH;FMTTYPE=image/jpeg:https://www.pjcvt.org/wp-content/uploads/2025/07/Green-Illustrative-Clean-Up-Activity-Instagram-Post.jpg
END:VEVENT
BEGIN:VEVENT
DTSTART;TZID=America/New_York:20260507T170000
DTEND;TZID=America/New_York:20260507T183000
DTSTAMP:20260421T095106
CREATED:20260105T213023Z
LAST-MODIFIED:20260112T160424Z
UID:10000844-1778173200-1778178600@www.pjcvt.org
SUMMARY:Solarpunk Book Club & Game Night
DESCRIPTION:Come read a solarpunk book with us\, and play a round of the game Solarpunk Futures! If we want to live in a socially conscious\, ecological society\, we have to build it together! Come help us imagine how we can do that together.
URL:https://www.pjcvt.org/event/cooperative-storytelling-game-night-3-2/2026-05-07/
LOCATION:Peace & Justice Center\, 239 S. Union Street Suite 3\, Burlington\, Vermont\, 05401\, United States
CATEGORIES:PJC Events
ATTACH;FMTTYPE=image/png:https://www.pjcvt.org/wp-content/uploads/2025/08/Nature-Infused-Solarpunk-Community-Poster.png
END:VEVENT
BEGIN:VEVENT
DTSTART;TZID=America/New_York:20260514T073000
DTEND;TZID=America/New_York:20260514T100000
DTSTAMP:20260421T095106
CREATED:20250722T192003Z
LAST-MODIFIED:20251222T193348Z
UID:10000553-1778743800-1778752800@www.pjcvt.org
SUMMARY:BTV Clean Up Crew
DESCRIPTION:Come help us clean up Burlington! We’ll clean up needles\, trash\, and ensure our community remains as beautiful and welcoming as we all know it to be. Meet at the top of Church St outside Kru Coffee every Thursday morning at 7:30am! Bring gloves if you can!
URL:https://www.pjcvt.org/event/btv-clean-up-crew/2026-05-14/
LOCATION:Top of Church St\, 2 Church St\, Burlington\, VT\, 05401\, United States
ATTACH;FMTTYPE=image/jpeg:https://www.pjcvt.org/wp-content/uploads/2025/07/Green-Illustrative-Clean-Up-Activity-Instagram-Post.jpg
END:VEVENT
BEGIN:VEVENT
DTSTART;TZID=America/New_York:20260521T073000
DTEND;TZID=America/New_York:20260521T100000
DTSTAMP:20260421T095106
CREATED:20250722T192003Z
LAST-MODIFIED:20251222T193348Z
UID:10000554-1779348600-1779357600@www.pjcvt.org
SUMMARY:BTV Clean Up Crew
DESCRIPTION:Come help us clean up Burlington! We’ll clean up needles\, trash\, and ensure our community remains as beautiful and welcoming as we all know it to be. Meet at the top of Church St outside Kru Coffee every Thursday morning at 7:30am! Bring gloves if you can!
URL:https://www.pjcvt.org/event/btv-clean-up-crew/2026-05-21/
LOCATION:Top of Church St\, 2 Church St\, Burlington\, VT\, 05401\, United States
ATTACH;FMTTYPE=image/jpeg:https://www.pjcvt.org/wp-content/uploads/2025/07/Green-Illustrative-Clean-Up-Activity-Instagram-Post.jpg
END:VEVENT
BEGIN:VEVENT
DTSTART;TZID=America/New_York:20260521T170000
DTEND;TZID=America/New_York:20260521T183000
DTSTAMP:20260421T095106
CREATED:20260105T213023Z
LAST-MODIFIED:20260112T160424Z
UID:10000845-1779382800-1779388200@www.pjcvt.org
SUMMARY:Solarpunk Book Club & Game Night
DESCRIPTION:Come read a solarpunk book with us\, and play a round of the game Solarpunk Futures! If we want to live in a socially conscious\, ecological society\, we have to build it together! Come help us imagine how we can do that together.
URL:https://www.pjcvt.org/event/cooperative-storytelling-game-night-3-2/2026-05-21/
LOCATION:Peace & Justice Center\, 239 S. Union Street Suite 3\, Burlington\, Vermont\, 05401\, United States
CATEGORIES:PJC Events
ATTACH;FMTTYPE=image/png:https://www.pjcvt.org/wp-content/uploads/2025/08/Nature-Infused-Solarpunk-Community-Poster.png
END:VEVENT
BEGIN:VEVENT
DTSTART;TZID=America/New_York:20260528T073000
DTEND;TZID=America/New_York:20260528T100000
DTSTAMP:20260421T095106
CREATED:20250722T192003Z
LAST-MODIFIED:20251222T193348Z
UID:10000555-1779953400-1779962400@www.pjcvt.org
SUMMARY:BTV Clean Up Crew
DESCRIPTION:Come help us clean up Burlington! We’ll clean up needles\, trash\, and ensure our community remains as beautiful and welcoming as we all know it to be. Meet at the top of Church St outside Kru Coffee every Thursday morning at 7:30am! Bring gloves if you can!
URL:https://www.pjcvt.org/event/btv-clean-up-crew/2026-05-28/
LOCATION:Top of Church St\, 2 Church St\, Burlington\, VT\, 05401\, United States
ATTACH;FMTTYPE=image/jpeg:https://www.pjcvt.org/wp-content/uploads/2025/07/Green-Illustrative-Clean-Up-Activity-Instagram-Post.jpg
END:VEVENT
BEGIN:VEVENT
DTSTART;TZID=America/New_York:20260604T073000
DTEND;TZID=America/New_York:20260604T100000
DTSTAMP:20260421T095106
CREATED:20250722T192003Z
LAST-MODIFIED:20251222T193348Z
UID:10000556-1780558200-1780567200@www.pjcvt.org
SUMMARY:BTV Clean Up Crew
DESCRIPTION:Come help us clean up Burlington! We’ll clean up needles\, trash\, and ensure our community remains as beautiful and welcoming as we all know it to be. Meet at the top of Church St outside Kru Coffee every Thursday morning at 7:30am! Bring gloves if you can!
URL:https://www.pjcvt.org/event/btv-clean-up-crew/2026-06-04/
LOCATION:Top of Church St\, 2 Church St\, Burlington\, VT\, 05401\, United States
ATTACH;FMTTYPE=image/jpeg:https://www.pjcvt.org/wp-content/uploads/2025/07/Green-Illustrative-Clean-Up-Activity-Instagram-Post.jpg
END:VEVENT
BEGIN:VEVENT
DTSTART;TZID=America/New_York:20260604T170000
DTEND;TZID=America/New_York:20260604T183000
DTSTAMP:20260421T095106
CREATED:20260105T213023Z
LAST-MODIFIED:20260112T160424Z
UID:10000846-1780592400-1780597800@www.pjcvt.org
SUMMARY:Solarpunk Book Club & Game Night
DESCRIPTION:Come read a solarpunk book with us\, and play a round of the game Solarpunk Futures! If we want to live in a socially conscious\, ecological society\, we have to build it together! Come help us imagine how we can do that together.
URL:https://www.pjcvt.org/event/cooperative-storytelling-game-night-3-2/2026-06-04/
LOCATION:Peace & Justice Center\, 239 S. Union Street Suite 3\, Burlington\, Vermont\, 05401\, United States
CATEGORIES:PJC Events
ATTACH;FMTTYPE=image/png:https://www.pjcvt.org/wp-content/uploads/2025/08/Nature-Infused-Solarpunk-Community-Poster.png
END:VEVENT
BEGIN:VEVENT
DTSTART;TZID=America/New_York:20260611T073000
DTEND;TZID=America/New_York:20260611T100000
DTSTAMP:20260421T095106
CREATED:20250722T192003Z
LAST-MODIFIED:20251222T193348Z
UID:10000557-1781163000-1781172000@www.pjcvt.org
SUMMARY:BTV Clean Up Crew
DESCRIPTION:Come help us clean up Burlington! We’ll clean up needles\, trash\, and ensure our community remains as beautiful and welcoming as we all know it to be. Meet at the top of Church St outside Kru Coffee every Thursday morning at 7:30am! Bring gloves if you can!
URL:https://www.pjcvt.org/event/btv-clean-up-crew/2026-06-11/
LOCATION:Top of Church St\, 2 Church St\, Burlington\, VT\, 05401\, United States
ATTACH;FMTTYPE=image/jpeg:https://www.pjcvt.org/wp-content/uploads/2025/07/Green-Illustrative-Clean-Up-Activity-Instagram-Post.jpg
END:VEVENT
BEGIN:VEVENT
DTSTART;TZID=America/New_York:20260618T073000
DTEND;TZID=America/New_York:20260618T100000
DTSTAMP:20260421T095106
CREATED:20250722T192003Z
LAST-MODIFIED:20251222T193348Z
UID:10000558-1781767800-1781776800@www.pjcvt.org
SUMMARY:BTV Clean Up Crew
DESCRIPTION:Come help us clean up Burlington! We’ll clean up needles\, trash\, and ensure our community remains as beautiful and welcoming as we all know it to be. Meet at the top of Church St outside Kru Coffee every Thursday morning at 7:30am! Bring gloves if you can!
URL:https://www.pjcvt.org/event/btv-clean-up-crew/2026-06-18/
LOCATION:Top of Church St\, 2 Church St\, Burlington\, VT\, 05401\, United States
ATTACH;FMTTYPE=image/jpeg:https://www.pjcvt.org/wp-content/uploads/2025/07/Green-Illustrative-Clean-Up-Activity-Instagram-Post.jpg
END:VEVENT
BEGIN:VEVENT
DTSTART;TZID=America/New_York:20260618T170000
DTEND;TZID=America/New_York:20260618T183000
DTSTAMP:20260421T095106
CREATED:20260105T213023Z
LAST-MODIFIED:20260112T160424Z
UID:10000847-1781802000-1781807400@www.pjcvt.org
SUMMARY:Solarpunk Book Club & Game Night
DESCRIPTION:Come read a solarpunk book with us\, and play a round of the game Solarpunk Futures! If we want to live in a socially conscious\, ecological society\, we have to build it together! Come help us imagine how we can do that together.
URL:https://www.pjcvt.org/event/cooperative-storytelling-game-night-3-2/2026-06-18/
LOCATION:Peace & Justice Center\, 239 S. Union Street Suite 3\, Burlington\, Vermont\, 05401\, United States
CATEGORIES:PJC Events
ATTACH;FMTTYPE=image/png:https://www.pjcvt.org/wp-content/uploads/2025/08/Nature-Infused-Solarpunk-Community-Poster.png
END:VEVENT
BEGIN:VEVENT
DTSTART;TZID=America/New_York:20260625T073000
DTEND;TZID=America/New_York:20260625T100000
DTSTAMP:20260421T095106
CREATED:20250722T192003Z
LAST-MODIFIED:20251222T193348Z
UID:10000559-1782372600-1782381600@www.pjcvt.org
SUMMARY:BTV Clean Up Crew
DESCRIPTION:Come help us clean up Burlington! We’ll clean up needles\, trash\, and ensure our community remains as beautiful and welcoming as we all know it to be. Meet at the top of Church St outside Kru Coffee every Thursday morning at 7:30am! Bring gloves if you can!
URL:https://www.pjcvt.org/event/btv-clean-up-crew/2026-06-25/
LOCATION:Top of Church St\, 2 Church St\, Burlington\, VT\, 05401\, United States
ATTACH;FMTTYPE=image/jpeg:https://www.pjcvt.org/wp-content/uploads/2025/07/Green-Illustrative-Clean-Up-Activity-Instagram-Post.jpg
END:VEVENT
BEGIN:VEVENT
DTSTART;TZID=America/New_York:20260702T073000
DTEND;TZID=America/New_York:20260702T100000
DTSTAMP:20260421T095106
CREATED:20250722T192003Z
LAST-MODIFIED:20251222T193348Z
UID:10000560-1782977400-1782986400@www.pjcvt.org
SUMMARY:BTV Clean Up Crew
DESCRIPTION:Come help us clean up Burlington! We’ll clean up needles\, trash\, and ensure our community remains as beautiful and welcoming as we all know it to be. Meet at the top of Church St outside Kru Coffee every Thursday morning at 7:30am! Bring gloves if you can!
URL:https://www.pjcvt.org/event/btv-clean-up-crew/2026-07-02/
LOCATION:Top of Church St\, 2 Church St\, Burlington\, VT\, 05401\, United States
ATTACH;FMTTYPE=image/jpeg:https://www.pjcvt.org/wp-content/uploads/2025/07/Green-Illustrative-Clean-Up-Activity-Instagram-Post.jpg
END:VEVENT
BEGIN:VEVENT
DTSTART;TZID=America/New_York:20260702T170000
DTEND;TZID=America/New_York:20260702T183000
DTSTAMP:20260421T095106
CREATED:20260105T213023Z
LAST-MODIFIED:20260112T160424Z
UID:10000848-1783011600-1783017000@www.pjcvt.org
SUMMARY:Solarpunk Book Club & Game Night
DESCRIPTION:Come read a solarpunk book with us\, and play a round of the game Solarpunk Futures! If we want to live in a socially conscious\, ecological society\, we have to build it together! Come help us imagine how we can do that together.
URL:https://www.pjcvt.org/event/cooperative-storytelling-game-night-3-2/2026-07-02/
LOCATION:Peace & Justice Center\, 239 S. Union Street Suite 3\, Burlington\, Vermont\, 05401\, United States
CATEGORIES:PJC Events
ATTACH;FMTTYPE=image/png:https://www.pjcvt.org/wp-content/uploads/2025/08/Nature-Infused-Solarpunk-Community-Poster.png
END:VEVENT
BEGIN:VEVENT
DTSTART;TZID=America/New_York:20260709T073000
DTEND;TZID=America/New_York:20260709T100000
DTSTAMP:20260421T095106
CREATED:20250722T192003Z
LAST-MODIFIED:20251222T193348Z
UID:10000561-1783582200-1783591200@www.pjcvt.org
SUMMARY:BTV Clean Up Crew
DESCRIPTION:Come help us clean up Burlington! We’ll clean up needles\, trash\, and ensure our community remains as beautiful and welcoming as we all know it to be. Meet at the top of Church St outside Kru Coffee every Thursday morning at 7:30am! Bring gloves if you can!
URL:https://www.pjcvt.org/event/btv-clean-up-crew/2026-07-09/
LOCATION:Top of Church St\, 2 Church St\, Burlington\, VT\, 05401\, United States
ATTACH;FMTTYPE=image/jpeg:https://www.pjcvt.org/wp-content/uploads/2025/07/Green-Illustrative-Clean-Up-Activity-Instagram-Post.jpg
END:VEVENT
BEGIN:VEVENT
DTSTART;TZID=America/New_York:20260716T073000
DTEND;TZID=America/New_York:20260716T100000
DTSTAMP:20260421T095106
CREATED:20250722T192003Z
LAST-MODIFIED:20251222T193348Z
UID:10000562-1784187000-1784196000@www.pjcvt.org
SUMMARY:BTV Clean Up Crew
DESCRIPTION:Come help us clean up Burlington! We’ll clean up needles\, trash\, and ensure our community remains as beautiful and welcoming as we all know it to be. Meet at the top of Church St outside Kru Coffee every Thursday morning at 7:30am! Bring gloves if you can!
URL:https://www.pjcvt.org/event/btv-clean-up-crew/2026-07-16/
LOCATION:Top of Church St\, 2 Church St\, Burlington\, VT\, 05401\, United States
ATTACH;FMTTYPE=image/jpeg:https://www.pjcvt.org/wp-content/uploads/2025/07/Green-Illustrative-Clean-Up-Activity-Instagram-Post.jpg
END:VEVENT
BEGIN:VEVENT
DTSTART;TZID=America/New_York:20260716T170000
DTEND;TZID=America/New_York:20260716T183000
DTSTAMP:20260421T095106
CREATED:20260105T213023Z
LAST-MODIFIED:20260112T160424Z
UID:10000849-1784221200-1784226600@www.pjcvt.org
SUMMARY:Solarpunk Book Club & Game Night
DESCRIPTION:Come read a solarpunk book with us\, and play a round of the game Solarpunk Futures! If we want to live in a socially conscious\, ecological society\, we have to build it together! Come help us imagine how we can do that together.
URL:https://www.pjcvt.org/event/cooperative-storytelling-game-night-3-2/2026-07-16/
LOCATION:Peace & Justice Center\, 239 S. Union Street Suite 3\, Burlington\, Vermont\, 05401\, United States
CATEGORIES:PJC Events
ATTACH;FMTTYPE=image/png:https://www.pjcvt.org/wp-content/uploads/2025/08/Nature-Infused-Solarpunk-Community-Poster.png
END:VEVENT
BEGIN:VEVENT
DTSTART;TZID=America/New_York:20260723T073000
DTEND;TZID=America/New_York:20260723T100000
DTSTAMP:20260421T095106
CREATED:20250722T192003Z
LAST-MODIFIED:20251222T193348Z
UID:10000563-1784791800-1784800800@www.pjcvt.org
SUMMARY:BTV Clean Up Crew
DESCRIPTION:Come help us clean up Burlington! We’ll clean up needles\, trash\, and ensure our community remains as beautiful and welcoming as we all know it to be. Meet at the top of Church St outside Kru Coffee every Thursday morning at 7:30am! Bring gloves if you can!
URL:https://www.pjcvt.org/event/btv-clean-up-crew/2026-07-23/
LOCATION:Top of Church St\, 2 Church St\, Burlington\, VT\, 05401\, United States
ATTACH;FMTTYPE=image/jpeg:https://www.pjcvt.org/wp-content/uploads/2025/07/Green-Illustrative-Clean-Up-Activity-Instagram-Post.jpg
END:VEVENT
BEGIN:VEVENT
DTSTART;TZID=America/New_York:20260730T073000
DTEND;TZID=America/New_York:20260730T100000
DTSTAMP:20260421T095106
CREATED:20250722T192003Z
LAST-MODIFIED:20251222T193348Z
UID:10000564-1785396600-1785405600@www.pjcvt.org
SUMMARY:BTV Clean Up Crew
DESCRIPTION:Come help us clean up Burlington! We’ll clean up needles\, trash\, and ensure our community remains as beautiful and welcoming as we all know it to be. Meet at the top of Church St outside Kru Coffee every Thursday morning at 7:30am! Bring gloves if you can!
URL:https://www.pjcvt.org/event/btv-clean-up-crew/2026-07-30/
LOCATION:Top of Church St\, 2 Church St\, Burlington\, VT\, 05401\, United States
ATTACH;FMTTYPE=image/jpeg:https://www.pjcvt.org/wp-content/uploads/2025/07/Green-Illustrative-Clean-Up-Activity-Instagram-Post.jpg
END:VEVENT
BEGIN:VEVENT
DTSTART;TZID=America/New_York:20260730T170000
DTEND;TZID=America/New_York:20260730T183000
DTSTAMP:20260421T095106
CREATED:20260105T213023Z
LAST-MODIFIED:20260112T160424Z
UID:10000850-1785430800-1785436200@www.pjcvt.org
SUMMARY:Solarpunk Book Club & Game Night
DESCRIPTION:Come read a solarpunk book with us\, and play a round of the game Solarpunk Futures! If we want to live in a socially conscious\, ecological society\, we have to build it together! Come help us imagine how we can do that together.
URL:https://www.pjcvt.org/event/cooperative-storytelling-game-night-3-2/2026-07-30/
LOCATION:Peace & Justice Center\, 239 S. Union Street Suite 3\, Burlington\, Vermont\, 05401\, United States
CATEGORIES:PJC Events
ATTACH;FMTTYPE=image/png:https://www.pjcvt.org/wp-content/uploads/2025/08/Nature-Infused-Solarpunk-Community-Poster.png
END:VEVENT
BEGIN:VEVENT
DTSTART;TZID=America/New_York:20260806T073000
DTEND;TZID=America/New_York:20260806T100000
DTSTAMP:20260421T095106
CREATED:20250722T192003Z
LAST-MODIFIED:20251222T193348Z
UID:10000565-1786001400-1786010400@www.pjcvt.org
SUMMARY:BTV Clean Up Crew
DESCRIPTION:Come help us clean up Burlington! We’ll clean up needles\, trash\, and ensure our community remains as beautiful and welcoming as we all know it to be. Meet at the top of Church St outside Kru Coffee every Thursday morning at 7:30am! Bring gloves if you can!
URL:https://www.pjcvt.org/event/btv-clean-up-crew/2026-08-06/
LOCATION:Top of Church St\, 2 Church St\, Burlington\, VT\, 05401\, United States
ATTACH;FMTTYPE=image/jpeg:https://www.pjcvt.org/wp-content/uploads/2025/07/Green-Illustrative-Clean-Up-Activity-Instagram-Post.jpg
END:VEVENT
BEGIN:VEVENT
DTSTART;TZID=America/New_York:20260813T073000
DTEND;TZID=America/New_York:20260813T100000
DTSTAMP:20260421T095106
CREATED:20250722T192003Z
LAST-MODIFIED:20251222T193348Z
UID:10000566-1786606200-1786615200@www.pjcvt.org
SUMMARY:BTV Clean Up Crew
DESCRIPTION:Come help us clean up Burlington! We’ll clean up needles\, trash\, and ensure our community remains as beautiful and welcoming as we all know it to be. Meet at the top of Church St outside Kru Coffee every Thursday morning at 7:30am! Bring gloves if you can!
URL:https://www.pjcvt.org/event/btv-clean-up-crew/2026-08-13/
LOCATION:Top of Church St\, 2 Church St\, Burlington\, VT\, 05401\, United States
ATTACH;FMTTYPE=image/jpeg:https://www.pjcvt.org/wp-content/uploads/2025/07/Green-Illustrative-Clean-Up-Activity-Instagram-Post.jpg
END:VEVENT
BEGIN:VEVENT
DTSTART;TZID=America/New_York:20260813T170000
DTEND;TZID=America/New_York:20260813T183000
DTSTAMP:20260421T095106
CREATED:20260105T213023Z
LAST-MODIFIED:20260112T160424Z
UID:10000851-1786640400-1786645800@www.pjcvt.org
SUMMARY:Solarpunk Book Club & Game Night
DESCRIPTION:Come read a solarpunk book with us\, and play a round of the game Solarpunk Futures! If we want to live in a socially conscious\, ecological society\, we have to build it together! Come help us imagine how we can do that together.
URL:https://www.pjcvt.org/event/cooperative-storytelling-game-night-3-2/2026-08-13/
LOCATION:Peace & Justice Center\, 239 S. Union Street Suite 3\, Burlington\, Vermont\, 05401\, United States
CATEGORIES:PJC Events
ATTACH;FMTTYPE=image/png:https://www.pjcvt.org/wp-content/uploads/2025/08/Nature-Infused-Solarpunk-Community-Poster.png
END:VEVENT
BEGIN:VEVENT
DTSTART;TZID=America/New_York:20260820T073000
DTEND;TZID=America/New_York:20260820T100000
DTSTAMP:20260421T095106
CREATED:20250722T192003Z
LAST-MODIFIED:20251222T193348Z
UID:10000567-1787211000-1787220000@www.pjcvt.org
SUMMARY:BTV Clean Up Crew
DESCRIPTION:Come help us clean up Burlington! We’ll clean up needles\, trash\, and ensure our community remains as beautiful and welcoming as we all know it to be. Meet at the top of Church St outside Kru Coffee every Thursday morning at 7:30am! Bring gloves if you can!
URL:https://www.pjcvt.org/event/btv-clean-up-crew/2026-08-20/
LOCATION:Top of Church St\, 2 Church St\, Burlington\, VT\, 05401\, United States
ATTACH;FMTTYPE=image/jpeg:https://www.pjcvt.org/wp-content/uploads/2025/07/Green-Illustrative-Clean-Up-Activity-Instagram-Post.jpg
END:VEVENT
BEGIN:VEVENT
DTSTART;TZID=America/New_York:20260827T073000
DTEND;TZID=America/New_York:20260827T100000
DTSTAMP:20260421T095106
CREATED:20250722T192003Z
LAST-MODIFIED:20251222T193348Z
UID:10000568-1787815800-1787824800@www.pjcvt.org
SUMMARY:BTV Clean Up Crew
DESCRIPTION:Come help us clean up Burlington! We’ll clean up needles\, trash\, and ensure our community remains as beautiful and welcoming as we all know it to be. Meet at the top of Church St outside Kru Coffee every Thursday morning at 7:30am! Bring gloves if you can!
URL:https://www.pjcvt.org/event/btv-clean-up-crew/2026-08-27/
LOCATION:Top of Church St\, 2 Church St\, Burlington\, VT\, 05401\, United States
ATTACH;FMTTYPE=image/jpeg:https://www.pjcvt.org/wp-content/uploads/2025/07/Green-Illustrative-Clean-Up-Activity-Instagram-Post.jpg
END:VEVENT
BEGIN:VEVENT
DTSTART;TZID=America/New_York:20260827T170000
DTEND;TZID=America/New_York:20260827T183000
DTSTAMP:20260421T095106
CREATED:20260105T213023Z
LAST-MODIFIED:20260112T160424Z
UID:10000852-1787850000-1787855400@www.pjcvt.org
SUMMARY:Solarpunk Book Club & Game Night
DESCRIPTION:Come read a solarpunk book with us\, and play a round of the game Solarpunk Futures! If we want to live in a socially conscious\, ecological society\, we have to build it together! Come help us imagine how we can do that together.
URL:https://www.pjcvt.org/event/cooperative-storytelling-game-night-3-2/2026-08-27/
LOCATION:Peace & Justice Center\, 239 S. Union Street Suite 3\, Burlington\, Vermont\, 05401\, United States
CATEGORIES:PJC Events
ATTACH;FMTTYPE=image/png:https://www.pjcvt.org/wp-content/uploads/2025/08/Nature-Infused-Solarpunk-Community-Poster.png
END:VEVENT
END:VCALENDAR